BEGIN:VCALENDAR
VERSION:2.0
PRODID:-//grinsverein - ECPv5.9.0//NONSGML v1.0//EN
CALSCALE:GREGORIAN
METHOD:PUBLISH
X-WR-CALNAME:grinsverein
X-ORIGINAL-URL:https://www.grinsverein.de
X-WR-CALDESC:Veranstaltungen für grinsverein
BEGIN:VTIMEZONE
TZID:Europe/Berlin
BEGIN:DAYLIGHT
TZOFFSETFROM:+0100
TZOFFSETTO:+0200
TZNAME:CEST
DTSTART:20160327T010000
END:DAYLIGHT
BEGIN:STANDARD
TZOFFSETFROM:+0200
TZOFFSETTO:+0100
TZNAME:CET
DTSTART:20161030T010000
END:STANDARD
END:VTIMEZONE
BEGIN:VEVENT
DTSTART;TZID=Europe/Berlin:20160512T173000
DTEND;TZID=Europe/Berlin:20160514T210000
DTSTAMP:20260421T231019
CREATED:20160426T140004Z
LAST-MODIFIED:20160519T092228Z
UID:40-1463074200-1463259600@www.grinsverein.de
SUMMARY:Theatre-Workshop! Atélier du thêatre!
DESCRIPTION:Liebe Alle\, \nIhr seid herzlich eingeladen mitzumachen! Wir experimentieren und spielen zusammen und bringen vielleicht sogar eine kleine Präsentation zustande. Kommt zur DBG um 17:30 Uhr. Bei Fragen wendet Euch an den Verein: grinsverein@web.de\n \nBis dahin!\nDie Workshops sind kostenlos! \nDear everone\,\n \nYou are warlmy invited to join us. We experiment and play together and maybe even put together a small theatre piece. Interested? Come to DBG at 5.30pm pm. If you have any questions\, write to grinsverein@web.de \nLooking forward to see you there! \nThe workshops are free of cost! \nChère tout le monde\, \nvous êtes envité*es de participer! Nous faison des expériences et jouons ensemble – peut-être il y a une petite pièce à la fin? Curieu*se? Venez au DBG a 5 heure et demi. S’il y a des question\, les prennez à grinsverein@web.de \nAvec joie anticipée!\nLes atéliers sont gratuits! \nأنتم مدعون دعوة حارة للانضمام إلينا ورشة عمل كي نلعب ونجرّب وربما ننتج عرض مسرحي صغير. هل لكم رغبة؟ انضموا إلينا DBG الساعة5.30pm يمكنكم طرح أسئلتكم هنا grinsverein@web.de \nنتطلع إلى حضوركم!  \nورشة العمل مجانية!
URL:https://www.grinsverein.de/event/workshop-latelier/
END:VEVENT
END:VCALENDAR