BEGIN:VCALENDAR
VERSION:2.0
PRODID:-//grinsverein - ECPv5.9.0//NONSGML v1.0//EN
CALSCALE:GREGORIAN
METHOD:PUBLISH
X-WR-CALNAME:grinsverein
X-ORIGINAL-URL:https://www.grinsverein.de
X-WR-CALDESC:Veranstaltungen für grinsverein
BEGIN:VTIMEZONE
TZID:Europe/Berlin
BEGIN:DAYLIGHT
TZOFFSETFROM:+0100
TZOFFSETTO:+0200
TZNAME:CEST
DTSTART:20180325T010000
END:DAYLIGHT
BEGIN:STANDARD
TZOFFSETFROM:+0200
TZOFFSETTO:+0100
TZNAME:CET
DTSTART:20181028T010000
END:STANDARD
END:VTIMEZONE
BEGIN:VEVENT
DTSTART;TZID=Europe/Berlin:20180214T140000
DTEND;TZID=Europe/Berlin:20180214T160000
DTSTAMP:20260420T170011
CREATED:20180205T181416Z
LAST-MODIFIED:20180205T181429Z
UID:793-1518616800-1518624000@www.grinsverein.de
SUMMARY:Theatre at DRK KaufBar
DESCRIPTION:Theatre-workshops 14th of feburary\, 2pm to 4 pm\, for free!
URL:https://www.grinsverein.de/event/theatre-at-drk-kaufbar/
END:VEVENT
END:VCALENDAR