BEGIN:VCALENDAR
VERSION:2.0
PRODID:-//grinsverein - ECPv5.9.0//NONSGML v1.0//EN
CALSCALE:GREGORIAN
METHOD:PUBLISH
X-WR-CALNAME:grinsverein
X-ORIGINAL-URL:https://www.grinsverein.de
X-WR-CALDESC:Veranstaltungen für grinsverein
BEGIN:VTIMEZONE
TZID:Europe/Berlin
BEGIN:DAYLIGHT
TZOFFSETFROM:+0100
TZOFFSETTO:+0200
TZNAME:CEST
DTSTART:20180325T010000
END:DAYLIGHT
BEGIN:STANDARD
TZOFFSETFROM:+0200
TZOFFSETTO:+0100
TZNAME:CET
DTSTART:20181028T010000
END:STANDARD
END:VTIMEZONE
BEGIN:VEVENT
DTSTART;TZID=Europe/Berlin:20180307T140000
DTEND;TZID=Europe/Berlin:20180307T160000
DTSTAMP:20260420T130246
CREATED:20180301T123749Z
LAST-MODIFIED:20180301T123749Z
UID:811-1520431200-1520438400@www.grinsverein.de
SUMMARY:Theatre at DRK KaufBar
DESCRIPTION:Warm invitation to the creativBar for adults at the DRK KaufBar. Together we play\, laugh and create short-scene try-outs. We get acquainted with basic theatre methods and with each other. No skills neccessary. Participation for free.
URL:https://www.grinsverein.de/event/theatre-at-drk-kaufbar-2/
END:VEVENT
END:VCALENDAR