BEGIN:VCALENDAR
VERSION:2.0
PRODID:-//grinsverein - ECPv5.9.0//NONSGML v1.0//EN
CALSCALE:GREGORIAN
METHOD:PUBLISH
X-WR-CALNAME:grinsverein
X-ORIGINAL-URL:https://www.grinsverein.de
X-WR-CALDESC:Veranstaltungen für grinsverein
BEGIN:VTIMEZONE
TZID:Europe/Berlin
BEGIN:DAYLIGHT
TZOFFSETFROM:+0100
TZOFFSETTO:+0200
TZNAME:CEST
DTSTART:20180325T010000
END:DAYLIGHT
BEGIN:STANDARD
TZOFFSETFROM:+0200
TZOFFSETTO:+0100
TZNAME:CET
DTSTART:20181028T010000
END:STANDARD
END:VTIMEZONE
BEGIN:VEVENT
DTSTART;TZID=Europe/Berlin:20180221T140000
DTEND;TZID=Europe/Berlin:20180221T160000
DTSTAMP:20260420T154055
CREATED:20180205T181632Z
LAST-MODIFIED:20180205T181632Z
UID:796-1519221600-1519228800@www.grinsverein.de
SUMMARY:Theater in der KaufBar
DESCRIPTION:Theaterworkshop Mittwoch 21.02\, 14 bis 16 Uhr – einfach eine Mail an mail@grinsverein.de
URL:https://www.grinsverein.de/event/theater-in-der-kaufbar-3/
END:VEVENT
END:VCALENDAR