BEGIN:VCALENDAR
VERSION:2.0
PRODID:-//grinsverein - ECPv5.9.0//NONSGML v1.0//EN
CALSCALE:GREGORIAN
METHOD:PUBLISH
X-WR-CALNAME:grinsverein
X-ORIGINAL-URL:https://www.grinsverein.de
X-WR-CALDESC:Veranstaltungen für grinsverein
BEGIN:VTIMEZONE
TZID:Europe/Berlin
BEGIN:DAYLIGHT
TZOFFSETFROM:+0100
TZOFFSETTO:+0200
TZNAME:CEST
DTSTART:20160327T010000
END:DAYLIGHT
BEGIN:STANDARD
TZOFFSETFROM:+0200
TZOFFSETTO:+0100
TZNAME:CET
DTSTART:20161030T010000
END:STANDARD
END:VTIMEZONE
BEGIN:VEVENT
DTSTART;TZID=Europe/Berlin:20160618T100000
DTEND;TZID=Europe/Berlin:20160619T140000
DTSTAMP:20260421T070210
CREATED:20160605T114245Z
LAST-MODIFIED:20160605T114707Z
UID:324-1466244000-1466344800@www.grinsverein.de
SUMMARY:SECHZEHN Probe
DESCRIPTION:Samstag 10 – 18 Uhr \nSonntag 10-14 Uhr \nFür mehr Informationen schreibt an: grinsverein@web.de
URL:https://www.grinsverein.de/event/sechzehn-probe/
END:VEVENT
END:VCALENDAR