BEGIN:VCALENDAR
VERSION:2.0
PRODID:-//grinsverein - ECPv5.9.0//NONSGML v1.0//EN
CALSCALE:GREGORIAN
METHOD:PUBLISH
X-WR-CALNAME:grinsverein
X-ORIGINAL-URL:https://www.grinsverein.de
X-WR-CALDESC:Veranstaltungen für grinsverein
BEGIN:VTIMEZONE
TZID:Europe/Berlin
BEGIN:DAYLIGHT
TZOFFSETFROM:+0100
TZOFFSETTO:+0200
TZNAME:CEST
DTSTART:20160327T010000
END:DAYLIGHT
BEGIN:STANDARD
TZOFFSETFROM:+0200
TZOFFSETTO:+0100
TZNAME:CET
DTSTART:20161030T010000
END:STANDARD
END:VTIMEZONE
BEGIN:VEVENT
DTSTART;TZID=Europe/Berlin:20160606T133000
DTEND;TZID=Europe/Berlin:20160606T163000
DTSTAMP:20260421T191654
CREATED:20160605T115641Z
LAST-MODIFIED:20160605T115916Z
UID:325-1465219800-1465230600@www.grinsverein.de
SUMMARY:Rendez-nous Lundi @ KaufBar
DESCRIPTION:Aux deuxième lundi @ DRK KaufBar: 13:30 l’atélier commence. 16:00 la présentation commence. Après: Après-midi aux réfugié.
URL:https://www.grinsverein.de/event/rendez-nous-lundi-kaufbar/
END:VEVENT
END:VCALENDAR