BEGIN:VCALENDAR
VERSION:2.0
PRODID:-//grinsverein - ECPv5.9.0//NONSGML v1.0//EN
CALSCALE:GREGORIAN
METHOD:PUBLISH
X-WR-CALNAME:grinsverein
X-ORIGINAL-URL:https://www.grinsverein.de
X-WR-CALDESC:Veranstaltungen für grinsverein
BEGIN:VTIMEZONE
TZID:Europe/Berlin
BEGIN:DAYLIGHT
TZOFFSETFROM:+0100
TZOFFSETTO:+0200
TZNAME:CEST
DTSTART:20160327T010000
END:DAYLIGHT
BEGIN:STANDARD
TZOFFSETFROM:+0200
TZOFFSETTO:+0100
TZNAME:CET
DTSTART:20161030T010000
END:STANDARD
END:VTIMEZONE
BEGIN:VEVENT
DTSTART;TZID=Europe/Berlin:20160606T133000
DTEND;TZID=Europe/Berlin:20160606T163000
DTSTAMP:20260421T203331
CREATED:20160605T103623Z
LAST-MODIFIED:20160605T103623Z
UID:314-1465219800-1465230600@www.grinsverein.de
SUMMARY:Monday's meeting @ KaufBar!
DESCRIPTION:Every second monday @ DRK KaufBar: 1.30pm for workshop. 4pm presentation pluse Refugees‘ afternoon!
URL:https://www.grinsverein.de/event/mondays-meeting-kaufbar/
END:VEVENT
END:VCALENDAR