BEGIN:VCALENDAR
VERSION:2.0
PRODID:-//grinsverein - ECPv5.9.0//NONSGML v1.0//EN
CALSCALE:GREGORIAN
METHOD:PUBLISH
X-WR-CALNAME:grinsverein
X-ORIGINAL-URL:https://www.grinsverein.de
X-WR-CALDESC:Veranstaltungen für grinsverein
BEGIN:VTIMEZONE
TZID:Europe/Berlin
BEGIN:DAYLIGHT
TZOFFSETFROM:+0100
TZOFFSETTO:+0200
TZNAME:CEST
DTSTART:20160327T010000
END:DAYLIGHT
BEGIN:STANDARD
TZOFFSETFROM:+0200
TZOFFSETTO:+0100
TZNAME:CET
DTSTART:20161030T010000
END:STANDARD
END:VTIMEZONE
BEGIN:VEVENT
DTSTART;TZID=Europe/Berlin:20160426T190000
DTEND;TZID=Europe/Berlin:20160426T210000
DTSTAMP:20260422T015328
CREATED:20160412T170824Z
LAST-MODIFIED:20160426T150013Z
UID:58-1461697200-1461704400@www.grinsverein.de
SUMMARY:Mitgliederversammlung
DESCRIPTION:Hallo an alle Mitglieder! \nHeute um 19:00 Uhr Versammlung im Schimmelhof (Hamburgerstr. 273 im B2!). \nMit Vorfreude auf später!
URL:https://www.grinsverein.de/event/mitgliederversammlung/
END:VEVENT
END:VCALENDAR